Package: ExpHunterSuite Version: 1.19.0 Command: /home/biocbuild/bbs-3.23-bioc/R/bin/R CMD INSTALL ExpHunterSuite StartedAt: 2025-11-11 13:01:08 -0500 (Tue, 11 Nov 2025) EndedAt: 2025-11-11 13:01:35 -0500 (Tue, 11 Nov 2025) EllapsedTime: 27.3 seconds RetCode: 1 Status: ERROR