Package: ExpHunterSuite Version: 1.19.0 Command: /home/biocbuild/bbs-3.23-bioc/R/bin/R CMD build --keep-empty-dirs --no-resave-data ExpHunterSuite StartedAt: 2025-11-11 13:04:48 -0500 (Tue, 11 Nov 2025) EndedAt: 2025-11-11 13:05:16 -0500 (Tue, 11 Nov 2025) EllapsedTime: 28.0 seconds RetCode: 1 Status: ERROR PackageFile: None PackageFileSize: NA