Package: EGSEA123 Version: 1.35.0 Command: /home/biocbuild/bbs-3.23-bioc/R/bin/R CMD build --keep-empty-dirs --no-resave-data EGSEA123 StartedAt: 2025-11-11 13:04:48 -0500 (Tue, 11 Nov 2025) EndedAt: 2025-11-11 13:11:07 -0500 (Tue, 11 Nov 2025) EllapsedTime: 379.2 seconds RetCode: 0 Status: OK PackageFile: EGSEA123_1.35.0.tar.gz PackageFileSize: 1.907 MiB