Package: EGSEA123 Version: 1.35.0 Maintainer: Matthew Ritchie MaintainerEmail: mritchie at wehi.edu.au git_url: https://git.bioconductor.org/packages/EGSEA123 git_branch: devel git_last_commit: cb38283 git_last_commit_date: 2025-10-29 09:46:36 -0500 (Wed, 29 Oct 2025)