Package: CAGEWorkflow Version: 1.27.0 Command: /home/biocbuild/bbs-3.23-bioc/R/bin/R CMD INSTALL CAGEWorkflow StartedAt: 2025-11-11 13:00:35 -0500 (Tue, 11 Nov 2025) EndedAt: 2025-11-11 13:01:08 -0500 (Tue, 11 Nov 2025) EllapsedTime: 33.1 seconds RetCode: 0 Status: OK