Package: CAGEWorkflow Version: 1.27.0 Command: /home/biocbuild/bbs-3.23-bioc/R/bin/R CMD build --keep-empty-dirs --no-resave-data CAGEWorkflow StartedAt: 2025-11-11 13:04:48 -0500 (Tue, 11 Nov 2025) EndedAt: 2025-11-11 13:13:12 -0500 (Tue, 11 Nov 2025) EllapsedTime: 504.4 seconds RetCode: 0 Status: OK PackageFile: CAGEWorkflow_1.27.0.tar.gz PackageFileSize: 815.6 KiB