Package: CAGEWorkflow Version: 1.27.0 Maintainer: Malte Thodberg MaintainerEmail: maltethodberg at gmail.com git_url: https://git.bioconductor.org/packages/CAGEWorkflow git_branch: devel git_last_commit: 234feba git_last_commit_date: 2025-10-29 09:47:25 -0500 (Wed, 29 Oct 2025)