Package: BP4RNAseq Version: 1.21.0 Maintainer: Shanwen Sun MaintainerEmail: sunshanwen at gmail.com git_url: https://git.bioconductor.org/packages/BP4RNAseq git_branch: devel git_last_commit: b32db34 git_last_commit_date: 2025-10-29 09:47:30 -0500 (Wed, 29 Oct 2025)