Package: zebrafishRNASeq Version: 1.31.0 Command: /home/biocbuild/bbs-3.23-bioc/R/bin/R CMD check --install=check:zebrafishRNASeq.install-out.txt --library=/home/biocbuild/bbs-3.23-bioc/R/site-library --timings zebrafishRNASeq_1.31.0.tar.gz StartedAt: 2025-11-11 13:16:38 -0500 (Tue, 11 Nov 2025) EndedAt: 2025-11-11 13:16:52 -0500 (Tue, 11 Nov 2025) EllapsedTime: 14.1 seconds RetCode: 0 Status: OK CheckDir: zebrafishRNASeq.Rcheck Warnings: 0