Package: yeastRNASeq Version: 0.49.0 Command: /home/biocbuild/bbs-3.23-bioc/R/bin/R CMD INSTALL yeastRNASeq StartedAt: 2025-11-11 10:55:48 -0500 (Tue, 11 Nov 2025) EndedAt: 2025-11-11 10:55:55 -0500 (Tue, 11 Nov 2025) EllapsedTime: 7.2 seconds RetCode: 0 Status: OK