Package: yeastRNASeq Version: 0.49.0 Command: /home/biocbuild/bbs-3.23-bioc/R/bin/R CMD check --install=check:yeastRNASeq.install-out.txt --library=/home/biocbuild/bbs-3.23-bioc/R/site-library --timings yeastRNASeq_0.49.0.tar.gz StartedAt: 2025-11-11 13:16:35 -0500 (Tue, 11 Nov 2025) EndedAt: 2025-11-11 13:21:16 -0500 (Tue, 11 Nov 2025) EllapsedTime: 280.8 seconds RetCode: 0 Status: WARNINGS CheckDir: yeastRNASeq.Rcheck Warnings: 1