Package: yeastRNASeq Version: 0.49.0 Command: /home/biocbuild/bbs-3.23-bioc/R/bin/R CMD build --keep-empty-dirs --no-resave-data yeastRNASeq StartedAt: 2025-11-11 11:48:52 -0500 (Tue, 11 Nov 2025) EndedAt: 2025-11-11 11:49:35 -0500 (Tue, 11 Nov 2025) EllapsedTime: 43.0 seconds RetCode: 0 Status: OK PackageFile: yeastRNASeq_0.49.0.tar.gz PackageFileSize: 306.9 MiB