Package: yeastNagalakshmi Version: 1.47.0 Command: /home/biocbuild/bbs-3.23-bioc/R/bin/R CMD build --keep-empty-dirs --no-resave-data yeastNagalakshmi StartedAt: 2025-11-13 11:49:37 -0500 (Thu, 13 Nov 2025) EndedAt: 2025-11-13 11:49:39 -0500 (Thu, 13 Nov 2025) EllapsedTime: 2.0 seconds RetCode: 0 Status: OK PackageFile: yeastNagalakshmi_1.47.0.tar.gz PackageFileSize: 14.33 MiB