Package: yeastGSData Version: 0.49.0 Command: /home/biocbuild/bbs-3.23-bioc/R/bin/R CMD INSTALL yeastGSData StartedAt: 2025-11-13 10:55:27 -0500 (Thu, 13 Nov 2025) EndedAt: 2025-11-13 10:55:32 -0500 (Thu, 13 Nov 2025) EllapsedTime: 4.6 seconds RetCode: 0 Status: OK