Package: yeastGSData Version: 0.49.0 Command: /home/biocbuild/bbs-3.23-bioc/R/bin/R CMD check --install=check:yeastGSData.install-out.txt --library=/home/biocbuild/bbs-3.23-bioc/R/site-library --timings yeastGSData_0.49.0.tar.gz StartedAt: 2025-11-13 13:22:11 -0500 (Thu, 13 Nov 2025) EndedAt: 2025-11-13 13:24:27 -0500 (Thu, 13 Nov 2025) EllapsedTime: 136.3 seconds RetCode: 0 Status: WARNINGS CheckDir: yeastGSData.Rcheck Warnings: 1