Package: yeastExpData Version: 0.57.0 Command: /home/biocbuild/bbs-3.23-bioc/R/bin/R CMD INSTALL yeastExpData StartedAt: 2025-11-13 10:56:29 -0500 (Thu, 13 Nov 2025) EndedAt: 2025-11-13 10:56:34 -0500 (Thu, 13 Nov 2025) EllapsedTime: 4.9 seconds RetCode: 0 Status: OK