Package: yeastExpData Version: 0.57.0 Command: /home/biocbuild/bbs-3.23-bioc/R/bin/R CMD build --keep-empty-dirs --no-resave-data yeastExpData StartedAt: 2025-11-13 11:49:34 -0500 (Thu, 13 Nov 2025) EndedAt: 2025-11-13 11:49:43 -0500 (Thu, 13 Nov 2025) EllapsedTime: 8.1 seconds RetCode: 0 Status: OK PackageFile: yeastExpData_0.57.0.tar.gz PackageFileSize: 935 KiB