Package: yeastCC Version: 1.51.0 Command: /home/biocbuild/bbs-3.23-bioc/R/bin/R CMD build --keep-empty-dirs --no-resave-data yeastCC StartedAt: 2025-11-11 11:48:50 -0500 (Tue, 11 Nov 2025) EndedAt: 2025-11-11 11:48:51 -0500 (Tue, 11 Nov 2025) EllapsedTime: 1.5 seconds RetCode: 0 Status: OK PackageFile: yeastCC_1.51.0.tar.gz PackageFileSize: 5.842 MiB