Package: xcoredata Version: 1.15.0 Command: /home/biocbuild/bbs-3.23-bioc/R/bin/R CMD INSTALL xcoredata StartedAt: 2025-11-13 10:57:28 -0500 (Thu, 13 Nov 2025) EndedAt: 2025-11-13 10:57:41 -0500 (Thu, 13 Nov 2025) EllapsedTime: 13.0 seconds RetCode: 0 Status: OK