Package: xcoredata Version: 1.15.0 Command: /home/biocbuild/bbs-3.23-bioc/R/bin/R CMD build --keep-empty-dirs --no-resave-data xcoredata StartedAt: 2025-11-11 11:48:32 -0500 (Tue, 11 Nov 2025) EndedAt: 2025-11-11 11:50:40 -0500 (Tue, 11 Nov 2025) EllapsedTime: 128.0 seconds RetCode: 0 Status: OK PackageFile: xcoredata_1.15.0.tar.gz PackageFileSize: 1.332 MiB