Package: vulcandata Version: 1.33.0 Command: /home/biocbuild/bbs-3.23-bioc/R/bin/R CMD check --install=check:vulcandata.install-out.txt --library=/home/biocbuild/bbs-3.23-bioc/R/site-library --timings vulcandata_1.33.0.tar.gz StartedAt: 2025-11-13 13:20:22 -0500 (Thu, 13 Nov 2025) EndedAt: 2025-11-13 13:20:48 -0500 (Thu, 13 Nov 2025) EllapsedTime: 26.0 seconds RetCode: 0 Status: OK CheckDir: vulcandata.Rcheck Warnings: 0