Package: vulcandata Version: 1.33.0 Command: /home/biocbuild/bbs-3.23-bioc/R/bin/R CMD build --keep-empty-dirs --no-resave-data vulcandata StartedAt: 2025-11-13 11:48:56 -0500 (Thu, 13 Nov 2025) EndedAt: 2025-11-13 11:49:06 -0500 (Thu, 13 Nov 2025) EllapsedTime: 10.3 seconds RetCode: 0 Status: OK PackageFile: vulcandata_1.33.0.tar.gz PackageFileSize: 44.75 MiB