Package: tweeDEseqCountData Version: 1.49.0 Command: /home/biocbuild/bbs-3.23-bioc/R/bin/R CMD check --install=check:tweeDEseqCountData.install-out.txt --library=/home/biocbuild/bbs-3.23-bioc/R/site-library --timings tweeDEseqCountData_1.49.0.tar.gz StartedAt: 2025-11-11 13:12:43 -0500 (Tue, 11 Nov 2025) EndedAt: 2025-11-11 13:13:15 -0500 (Tue, 11 Nov 2025) EllapsedTime: 32.0 seconds RetCode: 0 Status: WARNINGS CheckDir: tweeDEseqCountData.Rcheck Warnings: 1