Package: tuberculosis Version: 1.17.0 Command: /home/biocbuild/bbs-3.23-bioc/R/bin/R CMD INSTALL tuberculosis StartedAt: 2025-11-11 10:59:00 -0500 (Tue, 11 Nov 2025) EndedAt: 2025-11-11 10:59:26 -0500 (Tue, 11 Nov 2025) EllapsedTime: 26.0 seconds RetCode: 0 Status: OK