Package: tuberculosis Version: 1.17.0 Command: /home/biocbuild/bbs-3.23-bioc/R/bin/R CMD build --keep-empty-dirs --no-resave-data tuberculosis StartedAt: 2025-11-11 11:47:20 -0500 (Tue, 11 Nov 2025) EndedAt: 2025-11-11 11:48:32 -0500 (Tue, 11 Nov 2025) EllapsedTime: 71.5 seconds RetCode: 0 Status: OK PackageFile: tuberculosis_1.17.0.tar.gz PackageFileSize: 365.9 KiB