Package: topdownrdata Version: 1.33.0 Command: /home/biocbuild/bbs-3.23-bioc/R/bin/R CMD INSTALL topdownrdata StartedAt: 2025-11-11 11:00:34 -0500 (Tue, 11 Nov 2025) EndedAt: 2025-11-11 11:01:13 -0500 (Tue, 11 Nov 2025) EllapsedTime: 39.4 seconds RetCode: 0 Status: OK