Package: topdownrdata Version: 1.33.0 Command: /home/biocbuild/bbs-3.23-bioc/R/bin/R CMD check --install=check:topdownrdata.install-out.txt --library=/home/biocbuild/bbs-3.23-bioc/R/site-library --timings topdownrdata_1.33.0.tar.gz StartedAt: 2025-11-13 13:17:45 -0500 (Thu, 13 Nov 2025) EndedAt: 2025-11-13 13:22:23 -0500 (Thu, 13 Nov 2025) EllapsedTime: 277.7 seconds RetCode: 0 Status: OK CheckDir: topdownrdata.Rcheck Warnings: 0