Package: tofsimsData Version: 1.39.0 Command: /home/biocbuild/bbs-3.23-bioc/R/bin/R CMD build --keep-empty-dirs --no-resave-data tofsimsData StartedAt: 2025-11-11 11:47:07 -0500 (Tue, 11 Nov 2025) EndedAt: 2025-11-11 11:47:14 -0500 (Tue, 11 Nov 2025) EllapsedTime: 7.8 seconds RetCode: 0 Status: OK PackageFile: tofsimsData_1.39.0.tar.gz PackageFileSize: 10.5 MiB