Package: tinesath1probe Version: 1.49.0 Command: /home/biocbuild/bbs-3.23-bioc/R/bin/R CMD INSTALL tinesath1probe StartedAt: 2025-11-13 10:56:48 -0500 (Thu, 13 Nov 2025) EndedAt: 2025-11-13 10:56:56 -0500 (Thu, 13 Nov 2025) EllapsedTime: 8.2 seconds RetCode: 0 Status: OK