Package: tinesath1probe Version: 1.49.0 Command: /home/biocbuild/bbs-3.23-bioc/R/bin/R CMD check --install=check:tinesath1probe.install-out.txt --library=/home/biocbuild/bbs-3.23-bioc/R/site-library --timings tinesath1probe_1.49.0.tar.gz StartedAt: 2025-11-11 13:10:43 -0500 (Tue, 11 Nov 2025) EndedAt: 2025-11-11 13:11:39 -0500 (Tue, 11 Nov 2025) EllapsedTime: 56.0 seconds RetCode: 0 Status: WARNINGS CheckDir: tinesath1probe.Rcheck Warnings: 1