Package: timecoursedata Version: 1.21.0 Command: /home/biocbuild/bbs-3.23-bioc/R/bin/R CMD INSTALL timecoursedata StartedAt: 2025-11-13 11:00:30 -0500 (Thu, 13 Nov 2025) EndedAt: 2025-11-13 11:00:53 -0500 (Thu, 13 Nov 2025) EllapsedTime: 23.4 seconds RetCode: 0 Status: OK