Package: timecoursedata Version: 1.21.0 Command: /home/biocbuild/bbs-3.23-bioc/R/bin/R CMD build --keep-empty-dirs --no-resave-data timecoursedata StartedAt: 2025-11-13 11:46:51 -0500 (Thu, 13 Nov 2025) EndedAt: 2025-11-13 11:47:33 -0500 (Thu, 13 Nov 2025) EllapsedTime: 41.5 seconds RetCode: 0 Status: OK PackageFile: timecoursedata_1.21.0.tar.gz PackageFileSize: 44.87 MiB