Package: systemPipeRdata Version: 2.15.0 Command: /home/biocbuild/bbs-3.23-bioc/R/bin/R CMD check --install=check:systemPipeRdata.install-out.txt --library=/home/biocbuild/bbs-3.23-bioc/R/site-library --timings systemPipeRdata_2.15.0.tar.gz StartedAt: 2025-11-11 13:04:37 -0500 (Tue, 11 Nov 2025) EndedAt: 2025-11-11 13:07:52 -0500 (Tue, 11 Nov 2025) EllapsedTime: 194.6 seconds RetCode: 0 Status: WARNINGS CheckDir: systemPipeRdata.Rcheck Warnings: 1