Package: stemHypoxia Version: 1.47.0 Command: /home/biocbuild/bbs-3.23-bioc/R/bin/R CMD build --keep-empty-dirs --no-resave-data stemHypoxia StartedAt: 2025-11-11 11:43:43 -0500 (Tue, 11 Nov 2025) EndedAt: 2025-11-11 11:43:44 -0500 (Tue, 11 Nov 2025) EllapsedTime: 1.0 seconds RetCode: 0 Status: OK PackageFile: stemHypoxia_1.47.0.tar.gz PackageFileSize: 2.773 MiB