Package: spqnData Version: 1.23.0 Command: /home/biocbuild/bbs-3.23-bioc/R/bin/R CMD check --install=check:spqnData.install-out.txt --library=/home/biocbuild/bbs-3.23-bioc/R/site-library --timings spqnData_1.23.0.tar.gz StartedAt: 2025-11-11 13:03:37 -0500 (Tue, 11 Nov 2025) EndedAt: 2025-11-11 13:04:38 -0500 (Tue, 11 Nov 2025) EllapsedTime: 61.6 seconds RetCode: 0 Status: OK CheckDir: spqnData.Rcheck Warnings: 0