Package: spqnData Version: 1.23.0 Command: /home/biocbuild/bbs-3.23-bioc/R/bin/R CMD build --keep-empty-dirs --no-resave-data spqnData StartedAt: 2025-11-11 11:43:40 -0500 (Tue, 11 Nov 2025) EndedAt: 2025-11-11 11:43:43 -0500 (Tue, 11 Nov 2025) EllapsedTime: 3.0 seconds RetCode: 0 Status: OK PackageFile: spqnData_1.23.0.tar.gz PackageFileSize: 10.17 MiB