Package: spatialLIBD Version: 1.23.0 Command: /home/biocbuild/bbs-3.23-bioc/R/bin/R CMD check --install=check:spatialLIBD.install-out.txt --library=/home/biocbuild/bbs-3.23-bioc/R/site-library --timings spatialLIBD_1.23.0.tar.gz StartedAt: 2025-11-13 13:08:23 -0500 (Thu, 13 Nov 2025) EndedAt: 2025-11-13 13:28:38 -0500 (Thu, 13 Nov 2025) EllapsedTime: 1215.6 seconds RetCode: 0 Status: OK CheckDir: spatialLIBD.Rcheck Warnings: 0