Package: spatialDmelxsim Version: 1.17.0 Command: /home/biocbuild/bbs-3.23-bioc/R/bin/R CMD INSTALL spatialDmelxsim StartedAt: 2025-11-11 11:01:15 -0500 (Tue, 11 Nov 2025) EndedAt: 2025-11-11 11:01:40 -0500 (Tue, 11 Nov 2025) EllapsedTime: 25.3 seconds RetCode: 0 Status: OK