Package: smokingMouse Version: 1.9.0 Command: /home/biocbuild/bbs-3.23-bioc/R/bin/R CMD check --install=check:smokingMouse.install-out.txt --library=/home/biocbuild/bbs-3.23-bioc/R/site-library --timings smokingMouse_1.9.0.tar.gz StartedAt: 2025-11-13 13:07:15 -0500 (Thu, 13 Nov 2025) EndedAt: 2025-11-13 13:08:01 -0500 (Thu, 13 Nov 2025) EllapsedTime: 45.9 seconds RetCode: 0 Status: OK CheckDir: smokingMouse.Rcheck Warnings: 0