Package: simpIntLists Version: 1.47.0 Command: /home/biocbuild/bbs-3.23-bioc/R/bin/R CMD check --install=check:simpIntLists.install-out.txt --library=/home/biocbuild/bbs-3.23-bioc/R/site-library --timings simpIntLists_1.47.0.tar.gz StartedAt: 2025-11-11 13:01:00 -0500 (Tue, 11 Nov 2025) EndedAt: 2025-11-11 13:02:07 -0500 (Tue, 11 Nov 2025) EllapsedTime: 67.3 seconds RetCode: 0 Status: WARNINGS CheckDir: simpIntLists.Rcheck Warnings: 1