Package: signatureSearchData Version: 1.25.0 Command: /home/biocbuild/bbs-3.23-bioc/R/bin/R CMD build --keep-empty-dirs --no-resave-data signatureSearchData StartedAt: 2025-11-11 11:42:38 -0500 (Tue, 11 Nov 2025) EndedAt: 2025-11-11 11:42:52 -0500 (Tue, 11 Nov 2025) EllapsedTime: 14.6 seconds RetCode: 0 Status: OK PackageFile: signatureSearchData_1.25.0.tar.gz PackageFileSize: 656.8 KiB