Package: shinyMethylData Version: 1.31.0 Command: /home/biocbuild/bbs-3.23-bioc/R/bin/R CMD INSTALL shinyMethylData StartedAt: 2025-11-13 10:55:53 -0500 (Thu, 13 Nov 2025) EndedAt: 2025-11-13 10:56:09 -0500 (Thu, 13 Nov 2025) EllapsedTime: 15.8 seconds RetCode: 0 Status: OK