Package: shinyMethylData Version: 1.31.0 Maintainer: Jean-Philippe Fortin MaintainerEmail: jfortin at jhsph.edu git_url: https://git.bioconductor.org/packages/shinyMethylData git_branch: devel git_last_commit: 9d2733d git_last_commit_date: 2025-10-29 09:55:19 -0500 (Wed, 29 Oct 2025)