Package: seventyGeneData Version: 1.47.0 Command: /home/biocbuild/bbs-3.23-bioc/R/bin/R CMD check --install=check:seventyGeneData.install-out.txt --library=/home/biocbuild/bbs-3.23-bioc/R/site-library --timings seventyGeneData_1.47.0.tar.gz StartedAt: 2025-11-13 13:05:45 -0500 (Thu, 13 Nov 2025) EndedAt: 2025-11-13 13:06:31 -0500 (Thu, 13 Nov 2025) EllapsedTime: 45.6 seconds RetCode: 0 Status: OK CheckDir: seventyGeneData.Rcheck Warnings: 0