Package: seventyGeneData Version: 1.47.0 Command: /home/biocbuild/bbs-3.23-bioc/R/bin/R CMD build --keep-empty-dirs --no-resave-data seventyGeneData StartedAt: 2025-11-11 11:42:19 -0500 (Tue, 11 Nov 2025) EndedAt: 2025-11-11 11:42:35 -0500 (Tue, 11 Nov 2025) EllapsedTime: 16.3 seconds RetCode: 0 Status: OK PackageFile: seventyGeneData_1.47.0.tar.gz PackageFileSize: 145.1 MiB