Package: sesameData Version: 1.29.2 Command: /home/biocbuild/bbs-3.23-bioc/R/bin/R CMD INSTALL sesameData StartedAt: 2025-11-11 11:02:40 -0500 (Tue, 11 Nov 2025) EndedAt: 2025-11-11 11:02:55 -0500 (Tue, 11 Nov 2025) EllapsedTime: 14.9 seconds RetCode: 0 Status: OK