Package: sesameData Version: 1.29.2 Command: /home/biocbuild/bbs-3.23-bioc/R/bin/R CMD check --install=check:sesameData.install-out.txt --library=/home/biocbuild/bbs-3.23-bioc/R/site-library --timings sesameData_1.29.2.tar.gz StartedAt: 2025-11-11 13:00:11 -0500 (Tue, 11 Nov 2025) EndedAt: 2025-11-11 13:03:02 -0500 (Tue, 11 Nov 2025) EllapsedTime: 171.1 seconds RetCode: 0 Status: OK CheckDir: sesameData.Rcheck Warnings: 0