Package: sesameData Version: 1.29.2 Maintainer: Wanding Zhou MaintainerEmail: zhouwanding at gmail.com git_url: https://git.bioconductor.org/packages/sesameData git_branch: devel git_last_commit: a18b709 git_last_commit_date: 2025-11-09 11:22:18 -0500 (Sun, 09 Nov 2025)