Package: seq2pathway.data Version: 1.43.0 Command: /home/biocbuild/bbs-3.23-bioc/R/bin/R CMD INSTALL seq2pathway.data StartedAt: 2025-11-13 10:57:46 -0500 (Thu, 13 Nov 2025) EndedAt: 2025-11-13 10:57:48 -0500 (Thu, 13 Nov 2025) EllapsedTime: 1.7 seconds RetCode: 0 Status: OK