Package: seq2pathway.data Version: 1.43.0 Command: /home/biocbuild/bbs-3.23-bioc/R/bin/R CMD build --keep-empty-dirs --no-resave-data seq2pathway.data StartedAt: 2025-11-11 11:41:43 -0500 (Tue, 11 Nov 2025) EndedAt: 2025-11-11 11:43:02 -0500 (Tue, 11 Nov 2025) EllapsedTime: 79.2 seconds RetCode: 0 Status: OK PackageFile: seq2pathway.data_1.43.0.tar.gz PackageFileSize: 97.22 MiB